BEGIN:VCALENDAR
VERSION:2.0
PRODID:-//Plone.org//NONSGML plone.app.event//EN
X-WR-TIMEZONE:US/Eastern
BEGIN:VEVENT
SUMMARY:Teen Summer Reading
DTSTART;TZID=US/Eastern:20260616T140000
DTEND;TZID=US/Eastern:20260616T150000
DTSTAMP:20260424T121139Z
UID:de14c0eb363949f694fe05c7bce0b463@saas_stack_varnish:6080
RRULE:FREQ=WEEKLY;UNTIL=20260728T000000
EXDATE;TZID=US/Eastern:20260630T000000
CONTACT:Ms. Becki\, 586-784-5921\, briceb@libcoop.net
CREATED:20260310T205055Z
DESCRIPTION:Youth ages 6th grade-12th grade. Weekly fun crafts and STEM pr
 ojects.
LAST-MODIFIED:20260310T205127Z
LOCATION:Community Room
URL:https://www.armadalib.org/teen-summer-reading
END:VEVENT
BEGIN:VTIMEZONE
TZID:US/Eastern
X-LIC-LOCATION:US/Eastern
BEGIN:DAYLIGHT
DTSTART:20260308T030000
TZNAME:EDT
TZOFFSETFROM:-0500
TZOFFSETTO:-0400
END:DAYLIGHT
END:VTIMEZONE
END:VCALENDAR
