BEGIN:VCALENDAR
VERSION:2.0
PRODID:-//Plone.org//NONSGML plone.app.event//EN
X-WR-TIMEZONE:US/Eastern
BEGIN:VEVENT
SUMMARY:Summer Reading Kick-Off
DTSTART;TZID=US/Eastern:20260613T110000
DTEND;TZID=US/Eastern:20260613T130000
DTSTAMP:20260424T122038Z
UID:18acf9ac5e4c44f69e17785703570569@saas_stack_varnish:6080
CONTACT:586-784-5921
CREATED:20260310T204206Z
DESCRIPTION:We are starting the summer reading season with outdoor games\,
  prizes and treats!
LAST-MODIFIED:20260310T204748Z
LOCATION:Library Parking Area
URL:https://www.armadalib.org/summer-reading-kick-off
END:VEVENT
BEGIN:VTIMEZONE
TZID:US/Eastern
X-LIC-LOCATION:US/Eastern
BEGIN:DAYLIGHT
DTSTART:20260308T030000
TZNAME:EDT
TZOFFSETFROM:-0500
TZOFFSETTO:-0400
END:DAYLIGHT
END:VTIMEZONE
END:VCALENDAR
