BEGIN:VCALENDAR
VERSION:2.0
PRODID:-//Plone.org//NONSGML plone.app.event//EN
X-WR-TIMEZONE:US/Eastern
BEGIN:VEVENT
SUMMARY:PAWS and Read Day
DTSTART;TZID=US/Eastern:20260321T110000
DTEND;TZID=US/Eastern:20260321T130000
DTSTAMP:20260424T122037Z
UID:7cc3a876a9d04319b7d8610b63523536@saas_stack_varnish:6080
CONTACT:Ms. Beverly\, 586-784-5921
CREATED:20260206T194245Z
DESCRIPTION:Children will be able to read to therapy dogs in five-minute i
 ntervals. Call to reserve a time 586-784-5921
LAST-MODIFIED:20260206T194311Z
LOCATION:Community Rood
URL:https://www.armadalib.org/paws-and-read-day
END:VEVENT
BEGIN:VTIMEZONE
TZID:US/Eastern
X-LIC-LOCATION:US/Eastern
BEGIN:DAYLIGHT
DTSTART:20260308T030000
TZNAME:EDT
TZOFFSETFROM:-0500
TZOFFSETTO:-0400
END:DAYLIGHT
END:VTIMEZONE
END:VCALENDAR
