BEGIN:VCALENDAR
VERSION:2.0
PRODID:-//Plone.org//NONSGML plone.app.event//EN
X-WR-TIMEZONE:US/Eastern
BEGIN:VEVENT
SUMMARY:Valentine's Day Craft
DTSTART;TZID=US/Eastern:20220214T140000
DTEND;TZID=US/Eastern:20220214T150000
DTSTAMP:20260424T191813Z
UID:4ca7b27672534d389aabe5e68dae04f6@saas_stack_varnish:6080
CONTACT:Hope\, 586-784-5921
CREATED:20211218T172013Z
DESCRIPTION:Join  us for a special craft.
LAST-MODIFIED:20211218T172017Z
URL:https://www.armadalib.org/news-events/valentines-day-craft
END:VEVENT
BEGIN:VTIMEZONE
TZID:US/Eastern
X-LIC-LOCATION:US/Eastern
BEGIN:STANDARD
DTSTART:20211107T010000
TZNAME:EST
TZOFFSETFROM:-0400
TZOFFSETTO:-0500
END:STANDARD
END:VTIMEZONE
END:VCALENDAR
