BEGIN:VCALENDAR
VERSION:2.0
PRODID:-//Plone.org//NONSGML plone.app.event//EN
X-WR-TIMEZONE:US/Eastern
BEGIN:VEVENT
SUMMARY:Tuesday Evening Book Club
DTSTART;TZID=US/Eastern:20250902T183000
DTEND;TZID=US/Eastern:20250902T193000
DTSTAMP:20260424T140654Z
UID:0187401a49dc454b85ad43b607166d42@saas_stack_varnish:6080
CONTACT:Becki\, 586-784-5921\, briceb@libcoop.net
CREATED:20250805T233906Z
DESCRIPTION:Call or stop in to the library to order your copy of The Might
 y Red by Louise Erdrich
LAST-MODIFIED:20250805T233918Z
LOCATION:Community Room
URL:https://www.armadalib.org/news-events/tuesday-evening-book-club-9
END:VEVENT
BEGIN:VTIMEZONE
TZID:US/Eastern
X-LIC-LOCATION:US/Eastern
BEGIN:DAYLIGHT
DTSTART:20250309T030000
TZNAME:EDT
TZOFFSETFROM:-0500
TZOFFSETTO:-0400
END:DAYLIGHT
END:VTIMEZONE
END:VCALENDAR
