BEGIN:VCALENDAR
VERSION:2.0
PRODID:-//Plone.org//NONSGML plone.app.event//EN
X-WR-TIMEZONE:US/Eastern
BEGIN:VEVENT
SUMMARY:Tuesday Evening Book Club
DTSTART;TZID=US/Eastern:20251007T183000
DTEND;TZID=US/Eastern:20251007T193000
DTSTAMP:20260424T122450Z
UID:edb96fed0c8949fbbdc8e60fa7c5eefb@saas_stack_varnish:6080
CONTACT:Becki\, 586-784-5921\, briceb@libcoop.net
CREATED:20250925T135528Z
DESCRIPTION:Reserve your copy of "Beneath a Scarlet Sky" by Mark Sullivan 
 for the October 7th discussion.
LAST-MODIFIED:20250925T135610Z
LOCATION:Community Room
URL:https://www.armadalib.org/news-events/tuesday-evening-book-club-10
END:VEVENT
BEGIN:VTIMEZONE
TZID:US/Eastern
X-LIC-LOCATION:US/Eastern
BEGIN:DAYLIGHT
DTSTART:20250309T030000
TZNAME:EDT
TZOFFSETFROM:-0500
TZOFFSETTO:-0400
END:DAYLIGHT
END:VTIMEZONE
END:VCALENDAR
