BEGIN:VCALENDAR
VERSION:2.0
PRODID:-//Plone.org//NONSGML plone.app.event//EN
X-WR-TIMEZONE:US/Eastern
BEGIN:VEVENT
SUMMARY:Tuesday Afternoon Book Club
DTSTART;TZID=US/Eastern:20230207T183000
DTEND;TZID=US/Eastern:20230207T193000
DTSTAMP:20260425T033602Z
UID:afbe6ac67fde45ffa480c7086c3c8490@saas_stack_varnish:6080
CONTACT:Becki\, 586-784-5921\, briceb@libcoop.net
CREATED:20221215T213042Z
DESCRIPTION:Call to reserve your copy of John Green's The Anthropocene Rev
 iewed.
LAST-MODIFIED:20221215T213048Z
LOCATION:Community Room
URL:https://www.armadalib.org/news-events/tuesday-afternoon-book-club-5
END:VEVENT
BEGIN:VTIMEZONE
TZID:US/Eastern
X-LIC-LOCATION:US/Eastern
BEGIN:STANDARD
DTSTART:20221106T010000
TZNAME:EST
TZOFFSETFROM:-0400
TZOFFSETTO:-0500
END:STANDARD
END:VTIMEZONE
END:VCALENDAR
