BEGIN:VCALENDAR
VERSION:2.0
PRODID:-//Plone.org//NONSGML plone.app.event//EN
X-WR-TIMEZONE:US/Eastern
BEGIN:VEVENT
SUMMARY:Thanksgiving Holiday Hours
DTSTART;TZID=US/Eastern:20251126T170000
DTEND;TZID=US/Eastern:20251201T120000
DTSTAMP:20260424T122306Z
UID:c0241621cda94a50b0d372485619e0a6@saas_stack_varnish:6080
CONTACT:586-784-5921
CREATED:20250821T193543Z
DESCRIPTION:The library will be close at 5pm on Wednesday\, November 26th 
 and reopen Monday\, December 1st at Noon.
LAST-MODIFIED:20250821T193557Z
URL:https://www.armadalib.org/news-events/thanksgiving-holiday-hours-2
END:VEVENT
BEGIN:VTIMEZONE
TZID:US/Eastern
X-LIC-LOCATION:US/Eastern
BEGIN:STANDARD
DTSTART:20251102T010000
TZNAME:EST
TZOFFSETFROM:-0400
TZOFFSETTO:-0500
END:STANDARD
END:VTIMEZONE
END:VCALENDAR
