BEGIN:VCALENDAR
VERSION:2.0
PRODID:-//Plone.org//NONSGML plone.app.event//EN
X-WR-TIMEZONE:US/Eastern
BEGIN:VEVENT
SUMMARY:Story Time
DTSTART;TZID=US/Eastern:20251113T103000
DTEND;TZID=US/Eastern:20251113T111500
DTSTAMP:20260424T122752Z
UID:c86f4acfb4ec485ab505db6d24558c1d@saas_stack_varnish:6080
CONTACT:Ms. Tracey\, 586-784-5921
CREATED:20250807T200052Z
DESCRIPTION:Ms. Tracey will lead the group by sharing a terrific children'
 s book followed by a fun project. Ages 3\, 4\, and 5 year-olds.
LAST-MODIFIED:20250807T200101Z
LOCATION:Story Time Room
URL:https://www.armadalib.org/news-events/story-time-4/2025-11-13
END:VEVENT
BEGIN:VTIMEZONE
TZID:US/Eastern
X-LIC-LOCATION:US/Eastern
BEGIN:STANDARD
DTSTART:20251102T010000
TZNAME:EST
TZOFFSETFROM:-0400
TZOFFSETTO:-0500
END:STANDARD
END:VTIMEZONE
END:VCALENDAR
