BEGIN:VCALENDAR
VERSION:2.0
PRODID:-//Plone.org//NONSGML plone.app.event//EN
X-WR-TIMEZONE:US/Eastern
BEGIN:VEVENT
SUMMARY:Staff In-Service
DTSTART;VALUE=DATE:20260102
DTEND;VALUE=DATE:20260103
DTSTAMP:20260424T121320Z
UID:eec70865d4ae40f194b2294e5c3d81e6@saas_stack_varnish:6080
CREATED:20251204T153308Z
DESCRIPTION:The library will be closed on Friday\, January 2\, 2026 for St
 aff In-Service. Regular hours resume Saturday\, January 3\, 2026.
LAST-MODIFIED:20251204T153318Z
URL:https://www.armadalib.org/news-events/staff-in-service
END:VEVENT
END:VCALENDAR
