BEGIN:VCALENDAR
VERSION:2.0
PRODID:-//Plone.org//NONSGML plone.app.event//EN
X-WR-TIMEZONE:US/Eastern
BEGIN:VEVENT
SUMMARY:Snoopy's 75th Birthday Party
DTSTART;TZID=US/Eastern:20251004T110000
DTEND;TZID=US/Eastern:20251004T120000
DTSTAMP:20260424T133251Z
UID:03226a7af35b46bfb4f3077b5686b6bb@saas_stack_varnish:6080
CONTACT:Ms. Beverly\, 586-784-5921
CREATED:20250807T202914Z
DESCRIPTION:Come join us in the fun by wishing Snoopy a Happy 75th Birthda
 y! There will be a trivia contest\, a short video\, a craft\, plus we will
  sing\nto Snoopy and enjoy some birthday cake!
LAST-MODIFIED:20250821T181633Z
LOCATION:Community Room
URL:https://www.armadalib.org/news-events/snoopys-75th-anniversary-party
END:VEVENT
BEGIN:VTIMEZONE
TZID:US/Eastern
X-LIC-LOCATION:US/Eastern
BEGIN:DAYLIGHT
DTSTART:20250309T030000
TZNAME:EDT
TZOFFSETFROM:-0500
TZOFFSETTO:-0400
END:DAYLIGHT
END:VTIMEZONE
END:VCALENDAR
