BEGIN:VCALENDAR
VERSION:2.0
PRODID:-//Plone.org//NONSGML plone.app.event//EN
X-WR-TIMEZONE:US/Eastern
BEGIN:VEVENT
SUMMARY:Santa Visits the Library
DTSTART;TZID=US/Eastern:20251209T180000
DTEND;TZID=US/Eastern:20251209T190000
DTSTAMP:20260424T122306Z
UID:f11978572e5e40599d3ace3a610aef04@saas_stack_varnish:6080
CREATED:20250821T193921Z
DESCRIPTION:Our favorite elf visits the library at 6:00pm\, Tuesday\, Dece
 mber 9th.
LAST-MODIFIED:20250821T194122Z
URL:https://www.armadalib.org/news-events/santa-visits-the-library-2
END:VEVENT
BEGIN:VTIMEZONE
TZID:US/Eastern
X-LIC-LOCATION:US/Eastern
BEGIN:STANDARD
DTSTART:20251102T010000
TZNAME:EST
TZOFFSETFROM:-0400
TZOFFSETTO:-0500
END:STANDARD
END:VTIMEZONE
END:VCALENDAR
