BEGIN:VCALENDAR
VERSION:2.0
PRODID:-//Plone.org//NONSGML plone.app.event//EN
X-WR-TIMEZONE:US/Eastern
BEGIN:VEVENT
SUMMARY:S.C.A.M.S. (Stopping Crimes Against Macomb Seniors)
DTSTART;TZID=US/Eastern:20260624T140000
DTEND;TZID=US/Eastern:20260624T150000
DTSTAMP:20260424T121012Z
UID:f9d7e14d40564d35ab731752ac45ab82@saas_stack_varnish:6080
RRULE:FREQ=DAILY;COUNT=1
EXDATE;TZID=US/Eastern:20260415T000000,20260416T000000,20260417T000000,202
 60418T000000,20260419T000000,20260420T000000
CONTACT:586-784-5921\, briceb@libcoop.net
CREATED:20251007T163745Z
LAST-MODIFIED:20251007T163800Z
LOCATION:Community Room
URL:https://www.armadalib.org/news-events/s-c-a-m-s-stopping-crimes-agains
 t-macomb-seniors
END:VEVENT
BEGIN:VTIMEZONE
TZID:US/Eastern
X-LIC-LOCATION:US/Eastern
BEGIN:DAYLIGHT
DTSTART:20260308T030000
TZNAME:EDT
TZOFFSETFROM:-0500
TZOFFSETTO:-0400
END:DAYLIGHT
END:VTIMEZONE
END:VCALENDAR
