BEGIN:VCALENDAR
VERSION:2.0
PRODID:-//Plone.org//NONSGML plone.app.event//EN
X-WR-TIMEZONE:US/Eastern
BEGIN:VEVENT
SUMMARY:People of the Three Fires
DTSTART;TZID=US/Eastern:20251104T140000
DTEND;TZID=US/Eastern:20251104T150000
DTSTAMP:20260424T122417Z
UID:fcef09e59085442d9c537c2ad92b8e19@saas_stack_varnish:6080
CONTACT:Ms. Beverly\, 586-784-5921
CREATED:20250821T192844Z
DESCRIPTION:Explore the lives of pre-statehood Ojibwa\, Odawa and Potawato
 mi peoples during this hands-on program
LAST-MODIFIED:20250821T192909Z
LOCATION:Community Room
URL:https://www.armadalib.org/news-events/people-of-the-three-fires
END:VEVENT
BEGIN:VTIMEZONE
TZID:US/Eastern
X-LIC-LOCATION:US/Eastern
BEGIN:STANDARD
DTSTART:20251102T010000
TZNAME:EST
TZOFFSETFROM:-0400
TZOFFSETTO:-0500
END:STANDARD
END:VTIMEZONE
END:VCALENDAR
