BEGIN:VCALENDAR
VERSION:2.0
PRODID:-//Plone.org//NONSGML plone.app.event//EN
X-WR-TIMEZONE:US/Eastern
BEGIN:VEVENT
SUMMARY:New Year Holiday Hours
DTSTART;TZID=US/Eastern:20201231T000000
DTEND;TZID=US/Eastern:20210104T120000
DTSTAMP:20260424T140507Z
UID:74e44dbd015842cb8669eda366143a2e@saas_stack_varnish:6080
CREATED:20201217T163348Z
LAST-MODIFIED:20201217T163401Z
URL:https://www.armadalib.org/news-events/new-year-holiday-hours
END:VEVENT
BEGIN:VTIMEZONE
TZID:US/Eastern
X-LIC-LOCATION:US/Eastern
BEGIN:STANDARD
DTSTART:20201101T010000
TZNAME:EST
TZOFFSETFROM:-0400
TZOFFSETTO:-0500
END:STANDARD
END:VTIMEZONE
END:VCALENDAR
