BEGIN:VCALENDAR
VERSION:2.0
PRODID:-//Plone.org//NONSGML plone.app.event//EN
X-WR-TIMEZONE:US/Eastern
BEGIN:VEVENT
SUMMARY:Labor Day Weekend Hours
DTSTART;VALUE=DATE:20250830
DTEND;VALUE=DATE:20250902
DTSTAMP:20260424T140500Z
UID:b7e36922a764469ebe1d2cbffb171212@saas_stack_varnish:6080
CREATED:20250821T182349Z
DESCRIPTION:The library will be closed Saturday\, August 30th-Monday\, Sep
 tember 1st. Regular hours resume Tuesday\, September 2nd at Noon.
LAST-MODIFIED:20250821T182403Z
URL:https://www.armadalib.org/news-events/labor-day-weekend-hours-1
END:VEVENT
END:VCALENDAR
