BEGIN:VCALENDAR
VERSION:2.0
PRODID:-//Plone.org//NONSGML plone.app.event//EN
X-WR-TIMEZONE:US/Eastern
BEGIN:VEVENT
SUMMARY:How to Home School While at Disney
DTSTART;TZID=US/Eastern:20250916T123000
DTEND;TZID=US/Eastern:20250916T133000
DTSTAMP:20260424T122417Z
UID:f3e0ed83bbda4563b64f8f74b25709c1@saas_stack_varnish:6080
CONTACT:586-784-5921
CREATED:20250905T182749Z
DESCRIPTION:Presentation on How to Home School While at Disney\, and a Dis
 ney craft for the children.
LAST-MODIFIED:20250905T182759Z
LOCATION:Community Room
URL:https://www.armadalib.org/news-events/how-to-home-school-while-at-disn
 ey
END:VEVENT
BEGIN:VTIMEZONE
TZID:US/Eastern
X-LIC-LOCATION:US/Eastern
BEGIN:DAYLIGHT
DTSTART:20250309T030000
TZNAME:EDT
TZOFFSETFROM:-0500
TZOFFSETTO:-0400
END:DAYLIGHT
END:VTIMEZONE
END:VCALENDAR
