BEGIN:VCALENDAR
VERSION:2.0
PRODID:-//Plone.org//NONSGML plone.app.event//EN
X-WR-TIMEZONE:US/Eastern
BEGIN:VEVENT
SUMMARY:Holiday Hours
DTSTART;VALUE=DATE:20211230
DTEND;VALUE=DATE:20220104
DTSTAMP:20260424T185314Z
UID:6fc7223c583c4f8a82d1db9c6f1ee760@saas_stack_varnish:6080
CREATED:20211012T203855Z
DESCRIPTION:The library will be closed December 30\, 2021 through January 
 2\, 2022. Regular hours resume Monday January 3\, 2022 at noon.
LAST-MODIFIED:20211229T183318Z
URL:https://www.armadalib.org/news-events/holiday-hours-4
END:VEVENT
END:VCALENDAR
