BEGIN:VCALENDAR
VERSION:2.0
PRODID:-//Plone.org//NONSGML plone.app.event//EN
X-WR-TIMEZONE:US/Eastern
BEGIN:VEVENT
SUMMARY:Holiday Hours
DTSTART;VALUE=DATE:20251231
DTEND;VALUE=DATE:20260102
DTSTAMP:20260424T122226Z
UID:60b46b0cdb474e8384db92efa7d44432@saas_stack_varnish:6080
CREATED:20251204T153101Z
DESCRIPTION:The library will be closed December 31-January 2. Regular hour
 s resume Saturday\, January 3\, 2026.
LAST-MODIFIED:20251204T153114Z
URL:https://www.armadalib.org/news-events/holiday-hours-25
END:VEVENT
END:VCALENDAR
