BEGIN:VCALENDAR
VERSION:2.0
PRODID:-//Plone.org//NONSGML plone.app.event//EN
X-WR-TIMEZONE:US/Eastern
BEGIN:VEVENT
SUMMARY:Holiday Hours
DTSTART;VALUE=DATE:20251224
DTEND;VALUE=DATE:20251228
DTSTAMP:20260424T122259Z
UID:b411da919b934b9598f660acb5429e5e@saas_stack_varnish:6080
CREATED:20251204T152146Z
DESCRIPTION:The library will be closed December 24-27\, and reopen for reg
 ular hours December 29\, 2025.
LAST-MODIFIED:20251204T152238Z
URL:https://www.armadalib.org/news-events/holiday-hours-24
END:VEVENT
END:VCALENDAR
