BEGIN:VCALENDAR
VERSION:2.0
PRODID:-//Plone.org//NONSGML plone.app.event//EN
X-WR-TIMEZONE:US/Eastern
BEGIN:VEVENT
SUMMARY:Halloween Escape Room
DTSTART;TZID=US/Eastern:20251010T100000
DTEND;TZID=US/Eastern:20251010T150000
DTSTAMP:20260424T134723Z
UID:a45f8f67aaed42ae9d7f2661ca98a2b1@saas_stack_varnish:6080
CONTACT:Ms. Beverly\, 586-784-5921
CREATED:20250807T202458Z
DESCRIPTION:Come experience a “Kid-friendly” escape room!
LAST-MODIFIED:20250807T202505Z
LOCATION:Community Room
URL:https://www.armadalib.org/news-events/halloween-escape-room
END:VEVENT
BEGIN:VTIMEZONE
TZID:US/Eastern
X-LIC-LOCATION:US/Eastern
BEGIN:DAYLIGHT
DTSTART:20250309T030000
TZNAME:EDT
TZOFFSETFROM:-0500
TZOFFSETTO:-0400
END:DAYLIGHT
END:VTIMEZONE
END:VCALENDAR
