BEGIN:VCALENDAR
VERSION:2.0
PRODID:-//Plone.org//NONSGML plone.app.event//EN
X-WR-TIMEZONE:US/Eastern
BEGIN:VEVENT
SUMMARY:Grandparents Day
DTSTART;TZID=US/Eastern:20250919T133000
DTEND;TZID=US/Eastern:20250919T150000
DTSTAMP:20260424T122258Z
UID:7f1ad2b2332a4f3b8113f817299bf94a@saas_stack_varnish:6080
CONTACT:Ms. Beverly\, 586-784-5921
CREATED:20250807T201139Z
DESCRIPTION:School-aged children and their grandparents are invited to hea
 r a fun story\, do a craft\, be interviewed\, enjoy a treat\, and take a p
 hoto or two. Call 586-784-5921 to reserve your space. There are limited sp
 ots available.
LAST-MODIFIED:20250905T131957Z
LOCATION:Community Room
URL:https://www.armadalib.org/news-events/grandparents-day-2
END:VEVENT
BEGIN:VTIMEZONE
TZID:US/Eastern
X-LIC-LOCATION:US/Eastern
BEGIN:DAYLIGHT
DTSTART:20250309T030000
TZNAME:EDT
TZOFFSETFROM:-0500
TZOFFSETTO:-0400
END:DAYLIGHT
END:VTIMEZONE
END:VCALENDAR
