BEGIN:VCALENDAR
VERSION:2.0
PRODID:-//Plone.org//NONSGML plone.app.event//EN
X-WR-TIMEZONE:US/Eastern
BEGIN:VEVENT
SUMMARY:Doormat Craft with Stephanie
DTSTART;TZID=US/Eastern:20251106T180000
DTEND;TZID=US/Eastern:20251106T190000
DTSTAMP:20260424T122401Z
UID:2dd7981fc6ea4f1281ade654ad3a0593@saas_stack_varnish:6080
CONTACT:Ms. Beverly\, 586-784-5921
CREATED:20251017T203553Z
DESCRIPTION:Call to reserve your spot. Christmas or Winter stencils and pa
 int options available.
LAST-MODIFIED:20251017T203647Z
LOCATION:Community Room
URL:https://www.armadalib.org/news-events/doormat-craft-with-stephanie
END:VEVENT
BEGIN:VTIMEZONE
TZID:US/Eastern
X-LIC-LOCATION:US/Eastern
BEGIN:STANDARD
DTSTART:20251102T010000
TZNAME:EST
TZOFFSETFROM:-0400
TZOFFSETTO:-0500
END:STANDARD
END:VTIMEZONE
END:VCALENDAR
