BEGIN:VCALENDAR
VERSION:2.0
PRODID:-//Plone.org//NONSGML plone.app.event//EN
X-WR-TIMEZONE:US/Eastern
BEGIN:VEVENT
SUMMARY:Disney Bingo
DTSTART;TZID=US/Eastern:20250920T110000
DTEND;TZID=US/Eastern:20250920T123000
DTSTAMP:20260424T121540Z
UID:2e1ee94e31ba410198f78023ff0bdc61@saas_stack_varnish:6080
CONTACT:586-784-5921
CREATED:20250905T183420Z
DESCRIPTION:Overwhelmed by planning a Disney vacation? Do not know where t
 o start? Free Event - Limited spots please rsvp to 586-784-5921\nEveryone 
 takes home a prize\nFun for all ages!\nLight refreshments served
LAST-MODIFIED:20250905T184513Z
LOCATION:Community Room
URL:https://www.armadalib.org/news-events/disney-bingo
END:VEVENT
BEGIN:VTIMEZONE
TZID:US/Eastern
X-LIC-LOCATION:US/Eastern
BEGIN:DAYLIGHT
DTSTART:20250309T030000
TZNAME:EDT
TZOFFSETFROM:-0500
TZOFFSETTO:-0400
END:DAYLIGHT
END:VTIMEZONE
END:VCALENDAR
