BEGIN:VCALENDAR
VERSION:2.0
PRODID:-//Plone.org//NONSGML plone.app.event//EN
X-WR-TIMEZONE:US/Eastern
BEGIN:VEVENT
SUMMARY:Card Making Class
DTSTART;TZID=US/Eastern:20251002T130000
DTEND;TZID=US/Eastern:20251002T150000
DTSTAMP:20260424T122110Z
UID:d4a4a22960114b73a696083463fe5370@saas_stack_varnish:6080
CONTACT:586-784-5921
CREATED:20250828T151806Z
DESCRIPTION:Make six cards with Kathy. More details and sign up informatio
 n coming soon.
LAST-MODIFIED:20250828T151829Z
LOCATION:Community Room
URL:https://www.armadalib.org/news-events/card-making-class
END:VEVENT
BEGIN:VTIMEZONE
TZID:US/Eastern
X-LIC-LOCATION:US/Eastern
BEGIN:DAYLIGHT
DTSTART:20250309T030000
TZNAME:EDT
TZOFFSETFROM:-0500
TZOFFSETTO:-0400
END:DAYLIGHT
END:VTIMEZONE
END:VCALENDAR
