BEGIN:VCALENDAR
VERSION:2.0
PRODID:-//Plone.org//NONSGML plone.app.event//EN
X-WR-TIMEZONE:US/Eastern
BEGIN:VEVENT
SUMMARY:Blizzard of Books
DTSTART;TZID=US/Eastern:20230102T000000
DTEND;TZID=US/Eastern:20230225T120000
DTSTAMP:20260422T083641Z
UID:5a1569623c40489b8cefa69e10111ca1@saas_stack_varnish:6080
CONTACT:Beverly\, 586-784-5921
CREATED:20221208T205631Z
DESCRIPTION:Weekly reading challenge for K-5th graders
LAST-MODIFIED:20221208T205638Z
URL:https://www.armadalib.org/news-events/blizzard-of-books
END:VEVENT
BEGIN:VTIMEZONE
TZID:US/Eastern
X-LIC-LOCATION:US/Eastern
BEGIN:STANDARD
DTSTART:20221106T010000
TZNAME:EST
TZOFFSETFROM:-0400
TZOFFSETTO:-0500
END:STANDARD
END:VTIMEZONE
END:VCALENDAR
