BEGIN:VCALENDAR
VERSION:2.0
PRODID:-//Plone.org//NONSGML plone.app.event//EN
X-WR-TIMEZONE:US/Eastern
BEGIN:VEVENT
SUMMARY:Armada Fair Week Hours
DTSTART;VALUE=DATE:20250811
DTEND;VALUE=DATE:20250816
DTSTAMP:20260424T140440Z
UID:ae03941f05c74586a89adf31db5c0b57@saas_stack_varnish:6080
CONTACT:586-784-5921
CREATED:20250718T201455Z
DESCRIPTION:The library will close at 5:00 pm during fair week\, Monday\, 
 August 11-Friday\, August 15\, 2025.
LAST-MODIFIED:20250718T202220Z
URL:https://www.armadalib.org/news-events/armada-fair-week-hours
END:VEVENT
END:VCALENDAR
