BEGIN:VCALENDAR
VERSION:2.0
PRODID:-//Plone.org//NONSGML plone.app.event//EN
X-WR-TIMEZONE:US/Eastern
BEGIN:VEVENT
SUMMARY:Memorial Day Hours
DTSTART;TZID=US/Eastern:20260523T000000
DTEND;TZID=US/Eastern:20260525T235900
DTSTAMP:20260424T102334Z
UID:3aec7969eddc49f38b3aafe697935ba7@saas_stack_varnish:6080
CREATED:20260310T195601Z
DESCRIPTION:The library will be closed Saturday\, May 23rd - Monday\, May 
 25th. The library will resume regular hours on Tuesday\, May 26th at noon.
LAST-MODIFIED:20260310T195611Z
URL:https://www.armadalib.org/memorial-day-hours
END:VEVENT
BEGIN:VTIMEZONE
TZID:US/Eastern
X-LIC-LOCATION:US/Eastern
BEGIN:DAYLIGHT
DTSTART:20260308T030000
TZNAME:EDT
TZOFFSETFROM:-0500
TZOFFSETTO:-0400
END:DAYLIGHT
END:VTIMEZONE
END:VCALENDAR
