BEGIN:VCALENDAR
VERSION:2.0
PRODID:-//Plone.org//NONSGML plone.app.event//EN
X-WR-TIMEZONE:US/Eastern
BEGIN:VEVENT
SUMMARY:Leprechaun Escape Room
DTSTART;TZID=US/Eastern:20260305T130000
DTEND;TZID=US/Eastern:20260305T153000
DTSTAMP:20260424T122110Z
UID:b320caefa94d441b8f24de727ee86f13@saas_stack_varnish:6080
CONTACT:Ms. Beverly\, 586-784-5921
CREATED:20260206T194817Z
DESCRIPTION:Elementary-aged children can navigate through puzzles and ridd
 les to uncover keys that help them capture a leprechaun. Three sessions at
  1:00\, 2:15\, and 3:30pm\, are available to reserve a space. Call 586-784
 -5921 to register.
LAST-MODIFIED:20260206T194825Z
LOCATION:Children's Library
URL:https://www.armadalib.org/leprechaun-escape-room
END:VEVENT
BEGIN:VTIMEZONE
TZID:US/Eastern
X-LIC-LOCATION:US/Eastern
BEGIN:STANDARD
DTSTART:20251102T010000
TZNAME:EST
TZOFFSETFROM:-0400
TZOFFSETTO:-0500
END:STANDARD
END:VTIMEZONE
END:VCALENDAR
