BEGIN:VCALENDAR
VERSION:2.0
PRODID:-//Plone.org//NONSGML plone.app.event//EN
X-WR-TIMEZONE:US/Eastern
BEGIN:VEVENT
SUMMARY:Labor Day Weekend Hours
DTSTART;TZID=US/Eastern:20250830T000000
DTEND;TZID=US/Eastern:20250902T120000
DTSTAMP:20260424T140108Z
UID:b8515d3c851b4c79987ce37742c99ea4@saas_stack_varnish:6080
CREATED:20250816T162740Z
DESCRIPTION:The library will be closed Saturday\, August 30th - Monday\, S
 eptember 1st. Regular Hours resume Tuesday\, September 2nd at Noon.
LAST-MODIFIED:20250816T162752Z
URL:https://www.armadalib.org/labor-day-weekend-hours
END:VEVENT
BEGIN:VTIMEZONE
TZID:US/Eastern
X-LIC-LOCATION:US/Eastern
BEGIN:DAYLIGHT
DTSTART:20250309T030000
TZNAME:EDT
TZOFFSETFROM:-0500
TZOFFSETTO:-0400
END:DAYLIGHT
END:VTIMEZONE
END:VCALENDAR
