BEGIN:VCALENDAR
VERSION:2.0
PRODID:-//Plone.org//NONSGML plone.app.event//EN
X-WR-TIMEZONE:US/Eastern
BEGIN:VEVENT
SUMMARY:Card Making
DTSTART;TZID=US/Eastern:20260428T130000
DTEND;TZID=US/Eastern:20260428T160000
DTSTAMP:20260424T085843Z
UID:a2783acbbc2142348a7c7974b2b96c6c@saas_stack_varnish:6080
CONTACT:586-784-5921
CREATED:20260326T172051Z
DESCRIPTION:Make six cards of varying designs. More information to come.
LAST-MODIFIED:20260326T172101Z
LOCATION:Community Room
URL:https://www.armadalib.org/news-events/card-making-13
END:VEVENT
BEGIN:VEVENT
SUMMARY:Story Time
DTSTART;TZID=US/Eastern:20260430T103000
DTEND;TZID=US/Eastern:20260430T113000
DTSTAMP:20260424T085843Z
UID:0bad7ead2ff94c1d93a5d11403f66bdb@saas_stack_varnish:6080
RRULE:FREQ=WEEKLY;UNTIL=20260604T000000;BYDAY=TH
EXDATE;TZID=US/Eastern:20251224T000000,20251225T000000,20251231T000000,202
 60101T000000,20260319T000000,20260402T000000
CONTACT:Ms. Tracey\, 586-784-5921
CREATED:20251204T152633Z
DESCRIPTION:Join Ms. Tracey for a fun book and activity. Designed for 3\, 
 4\, and 5 year-olds.
LAST-MODIFIED:20260310T192439Z
URL:https://www.armadalib.org/news-events/story-time-5
END:VEVENT
BEGIN:VEVENT
SUMMARY:Tuesday Evening Book Club
DTSTART;TZID=US/Eastern:20260505T183000
DTEND;TZID=US/Eastern:20260505T193000
DTSTAMP:20260424T085843Z
UID:64de8a9a37e7449b967b7dcd656c4eab@saas_stack_varnish:6080
RRULE:FREQ=MONTHLY;COUNT=8;BYDAY=+1TU
CONTACT:Becki\, 586-784-5921\, briceb@libcoop.net
CREATED:20250925T135920Z
DESCRIPTION:May: So Far Gone by Jess Walter
LAST-MODIFIED:20260409T135515Z
LOCATION:Community Room
URL:https://www.armadalib.org/news-events/tuesday-evening-book-club-11
END:VEVENT
BEGIN:VEVENT
SUMMARY:LEGO Club
DTSTART;TZID=US/Eastern:20260509T110000
DTEND;TZID=US/Eastern:20260509T120000
DTSTAMP:20260424T085843Z
UID:96dcd057a8cd44d1ab6a72907db85260@saas_stack_varnish:6080
RRULE:FREQ=MONTHLY;UNTIL=20260613T000000;BYDAY=+2SA
CONTACT:Beverly\, 586-784-5921
CREATED:20230427T195543Z
DESCRIPTION:Children will explore\, complete tasks\, share and complete ot
 her fun LEGO activities. LEGOs will be provided
LAST-MODIFIED:20251204T152823Z
URL:https://www.armadalib.org/news-events/lego-club
END:VEVENT
BEGIN:VEVENT
SUMMARY:Armada Genealogy Society
DTSTART;TZID=US/Eastern:20260520T100000
DTEND;TZID=US/Eastern:20260520T110000
DTSTAMP:20260424T085843Z
UID:f419feb6cd0b4138a508279c51d18f25@saas_stack_varnish:6080
RRULE:FREQ=MONTHLY;UNTIL=20260520T000000;BYDAY=+3WE
EXDATE;TZID=US/Eastern:20251217T000000,20260617T000000,20260717T000000,202
 60817T000000
CONTACT:586-784-5921
CREATED:20250821T184325Z
DESCRIPTION:The Society meets on the third Wednesday of January\, February
 \, March\, April\, May\, September\, October and November at 10:00 am. It 
 is open to all that would like to discover or preserve family history.
LAST-MODIFIED:20250925T194410Z
LOCATION:Community Room
URL:https://www.armadalib.org/news-events/armada-genealogy-society-1
END:VEVENT
BEGIN:VEVENT
SUMMARY:Library Board Meeting
DTSTART;TZID=US/Eastern:20260521T170000
DTEND;TZID=US/Eastern:20260521T180000
DTSTAMP:20260424T085843Z
UID:dba01aeebeba459f99d171a913367519@saas_stack_varnish:6080
RRULE:FREQ=MONTHLY;UNTIL=20270121T000000;BYDAY=+3TH
EXDATE;TZID=US/Eastern:20251218T000000,20260319T000000,20260416T000000
CONTACT:586-784-5921\, armadadirector@libcoop.net
CREATED:20210107T162745Z
LAST-MODIFIED:20260220T192048Z
LOCATION:Community Room
URL:https://www.armadalib.org/news-events/library-board
END:VEVENT
BEGIN:VEVENT
SUMMARY:Memorial Day Hours
DTSTART;TZID=US/Eastern:20260523T000000
DTEND;TZID=US/Eastern:20260525T235900
DTSTAMP:20260424T085843Z
UID:3aec7969eddc49f38b3aafe697935ba7@saas_stack_varnish:6080
CREATED:20260310T195601Z
DESCRIPTION:The library will be closed Saturday\, May 23rd - Monday\, May 
 25th. The library will resume regular hours on Tuesday\, May 26th at noon.
LAST-MODIFIED:20260310T195611Z
URL:https://www.armadalib.org/memorial-day-hours
END:VEVENT
BEGIN:VEVENT
SUMMARY:Summer Reading Kick-Off
DTSTART;TZID=US/Eastern:20260613T110000
DTEND;TZID=US/Eastern:20260613T130000
DTSTAMP:20260424T085843Z
UID:18acf9ac5e4c44f69e17785703570569@saas_stack_varnish:6080
CONTACT:586-784-5921
CREATED:20260310T204206Z
DESCRIPTION:We are starting the summer reading season with outdoor games\,
  prizes and treats!
LAST-MODIFIED:20260310T204748Z
LOCATION:Library Parking Area
URL:https://www.armadalib.org/summer-reading-kick-off
END:VEVENT
BEGIN:VEVENT
SUMMARY:Teen Summer Reading
DTSTART;TZID=US/Eastern:20260616T140000
DTEND;TZID=US/Eastern:20260616T150000
DTSTAMP:20260424T085843Z
UID:de14c0eb363949f694fe05c7bce0b463@saas_stack_varnish:6080
RRULE:FREQ=WEEKLY;UNTIL=20260728T000000
EXDATE;TZID=US/Eastern:20260630T000000
CONTACT:Ms. Becki\, 586-784-5921\, briceb@libcoop.net
CREATED:20260310T205055Z
DESCRIPTION:Youth ages 6th grade-12th grade. Weekly fun crafts and STEM pr
 ojects.
LAST-MODIFIED:20260310T205127Z
LOCATION:Community Room
URL:https://www.armadalib.org/teen-summer-reading
END:VEVENT
BEGIN:VEVENT
SUMMARY:S.C.A.M.S. (Stopping Crimes Against Macomb Seniors)
DTSTART;TZID=US/Eastern:20260624T140000
DTEND;TZID=US/Eastern:20260624T150000
DTSTAMP:20260424T085843Z
UID:f9d7e14d40564d35ab731752ac45ab82@saas_stack_varnish:6080
RRULE:FREQ=DAILY;COUNT=1
EXDATE;TZID=US/Eastern:20260415T000000,20260416T000000,20260417T000000,202
 60418T000000,20260419T000000,20260420T000000
CONTACT:586-784-5921\, briceb@libcoop.net
CREATED:20251007T163745Z
LAST-MODIFIED:20251007T163800Z
LOCATION:Community Room
URL:https://www.armadalib.org/news-events/s-c-a-m-s-stopping-crimes-agains
 t-macomb-seniors
END:VEVENT
BEGIN:VEVENT
SUMMARY:S.C.A.M.S. (Stopping Crimes Against Macomb Seniors)
DTSTART;TZID=US/Eastern:20260923T103000
DTEND;TZID=US/Eastern:20260923T113000
DTSTAMP:20260424T085843Z
UID:913a4a28e2ca457ea434e27a38c31b69@saas_stack_varnish:6080
CONTACT:586-784-5921\, briceb@libcoop.net
CREATED:20251007T163917Z
LAST-MODIFIED:20251007T163930Z
LOCATION:Community Room
URL:https://www.armadalib.org/news-events/s-c-a-m-s-stopping-crimes-agains
 t-macomb-seniors-1
END:VEVENT
BEGIN:VTIMEZONE
TZID:US/Eastern
X-LIC-LOCATION:US/Eastern
BEGIN:DAYLIGHT
DTSTART:20260308T030000
TZNAME:EDT
TZOFFSETFROM:-0500
TZOFFSETTO:-0400
END:DAYLIGHT
END:VTIMEZONE
END:VCALENDAR
